BEGIN:VCALENDAR
VERSION:2.0
PRODID:-//vv Belfeldia - ECPv6.15.20//NONSGML v1.0//EN
CALSCALE:GREGORIAN
METHOD:PUBLISH
X-WR-CALNAME:vv Belfeldia
X-ORIGINAL-URL:https://belfeldia.jdwebinnovations.nl
X-WR-CALDESC:Evenementen voor vv Belfeldia
REFRESH-INTERVAL;VALUE=DURATION:PT1H
X-Robots-Tag:noindex
X-PUBLISHED-TTL:PT1H
BEGIN:VTIMEZONE
TZID:UTC
BEGIN:STANDARD
TZOFFSETFROM:+0000
TZOFFSETTO:+0000
TZNAME:UTC
DTSTART:20250101T000000
END:STANDARD
END:VTIMEZONE
BEGIN:VEVENT
DTSTART;VALUE=DATE:20260513
DTEND;VALUE=DATE:20260514
DTSTAMP:20260422T123209
CREATED:20260223T173655Z
LAST-MODIFIED:20260223T174657Z
UID:420-1778630400-1778716799@belfeldia.jdwebinnovations.nl
SUMMARY:Ouder kind toernooi
DESCRIPTION:
URL:https://belfeldia.jdwebinnovations.nl/event/ouder-kind-toernooi/
END:VEVENT
END:VCALENDAR